BEGIN:VCALENDAR
VERSION:2.0
PRODID:-//Kiitan Foundation - ECPv6.15.17.1//NONSGML v1.0//EN
CALSCALE:GREGORIAN
METHOD:PUBLISH
X-ORIGINAL-URL:https://kiitanfoundation.org
X-WR-CALDESC:Events for Kiitan Foundation
REFRESH-INTERVAL;VALUE=DURATION:PT1H
X-Robots-Tag:noindex
X-PUBLISHED-TTL:PT1H
BEGIN:VTIMEZONE
TZID:Africa/Lagos
BEGIN:STANDARD
TZOFFSETFROM:+0100
TZOFFSETTO:+0100
TZNAME:WAT
DTSTART:20190101T000000
END:STANDARD
END:VTIMEZONE
BEGIN:VEVENT
DTSTART;TZID=Africa/Lagos:20200828T110000
DTEND;TZID=Africa/Lagos:20200828T150000
DTSTAMP:20260419T153713
CREATED:20200825T125310Z
LAST-MODIFIED:20200827T152947Z
UID:1835-1598612400-1598626800@kiitanfoundation.org
SUMMARY:Community Soup Kitchen (Ibadan) - August
DESCRIPTION:
URL:https://kiitanfoundation.org/event/community-soup-kitchen-august/
LOCATION:Egbeda\, Ibadan\, Oyo state\, Oyo state\, Nigeria
CATEGORIES:covid-19,events
ATTACH;FMTTYPE=image/jpeg:https://kiitanfoundation.org/wp-content/uploads/2020/08/Social-for-Kiitan5.jpg
END:VEVENT
END:VCALENDAR