BEGIN:VCALENDAR
VERSION:2.0
PRODID:-//Kiitan Foundation - ECPv6.15.17.1//NONSGML v1.0//EN
CALSCALE:GREGORIAN
METHOD:PUBLISH
X-WR-CALNAME:Kiitan Foundation
X-ORIGINAL-URL:https://kiitanfoundation.org
X-WR-CALDESC:Events for Kiitan Foundation
REFRESH-INTERVAL;VALUE=DURATION:PT1H
X-Robots-Tag:noindex
X-PUBLISHED-TTL:PT1H
BEGIN:VTIMEZONE
TZID:Africa/Lagos
BEGIN:STANDARD
TZOFFSETFROM:+0100
TZOFFSETTO:+0100
TZNAME:WAT
DTSTART:20190101T000000
END:STANDARD
END:VTIMEZONE
BEGIN:VTIMEZONE
TZID:UTC
BEGIN:STANDARD
TZOFFSETFROM:+0000
TZOFFSETTO:+0000
TZNAME:UTC
DTSTART:20190101T000000
END:STANDARD
END:VTIMEZONE
BEGIN:VEVENT
DTSTART;TZID=Africa/Lagos:20200829T160000
DTEND;TZID=Africa/Lagos:20200829T183000
DTSTAMP:20260421T011348
CREATED:20200825T144047Z
LAST-MODIFIED:20200827T155445Z
UID:1841-1598716800-1598725800@kiitanfoundation.org
SUMMARY:Community Soup Kitchen (Osun) - August
DESCRIPTION:
URL:https://kiitanfoundation.org/event/community-soup-kitchen-osun-august/
LOCATION:Alawo palace\, Alawo palace\, Awo\, Egbedore LG\, Ede\, Osun state\, Nigeria
CATEGORIES:covid-19,events
ATTACH;FMTTYPE=image/jpeg:https://kiitanfoundation.org/wp-content/uploads/2020/08/soup-kitchen-osun.jpg
END:VEVENT
BEGIN:VEVENT
DTSTART;TZID=Africa/Lagos:20200828T110000
DTEND;TZID=Africa/Lagos:20200828T150000
DTSTAMP:20260421T011348
CREATED:20200825T125310Z
LAST-MODIFIED:20200827T152947Z
UID:1835-1598612400-1598626800@kiitanfoundation.org
SUMMARY:Community Soup Kitchen (Ibadan) - August
DESCRIPTION:
URL:https://kiitanfoundation.org/event/community-soup-kitchen-august/
LOCATION:Egbeda\, Ibadan\, Oyo state\, Oyo state\, Nigeria
CATEGORIES:covid-19,events
ATTACH;FMTTYPE=image/jpeg:https://kiitanfoundation.org/wp-content/uploads/2020/08/Social-for-Kiitan5.jpg
END:VEVENT
BEGIN:VEVENT
DTSTART;TZID=Africa/Lagos:20200813T100000
DTEND;TZID=Africa/Lagos:20200814T170000
DTSTAMP:20260421T011348
CREATED:20200808T145402Z
LAST-MODIFIED:20200827T150422Z
UID:1846-1597312800-1597424400@kiitanfoundation.org
SUMMARY:The Emergency Teachers’ Aid Programme
DESCRIPTION:
URL:https://kiitanfoundation.org/event/the-emergency-teachers-aid-programme/
LOCATION:PISON GOLD MONTESSORI SCHOOL\, OSOGBO.\, Ede\, Osun state\, Nigeria
CATEGORIES:covid-19,events
ATTACH;FMTTYPE=image/jpeg:https://kiitanfoundation.org/wp-content/uploads/2020/08/Social-for-Kiitan-copy-2.jpg
END:VEVENT
BEGIN:VEVENT
DTSTART;TZID=Africa/Lagos:20200724T100000
DTEND;TZID=Africa/Lagos:20200724T123000
DTSTAMP:20260421T011348
CREATED:20200712T112736Z
LAST-MODIFIED:20200802T112759Z
UID:1740-1595584800-1595593800@kiitanfoundation.org
SUMMARY:Community Soup Kitchen Monthly Event
DESCRIPTION:The monthly ‘Community Soup Kitchen’ is a meal assistance program targeted at Buari Isibo Ward 8\, Ede North\, Osun state. This is a recurring event that would be timely spread nationwide starting from Osun State. \nThe aim of this event is to improve the quality of life of beneficiaries through the provision of nutritious hot meals for the homeless\, unemployed or disadvantaged – regardless of gender and age group. This event is 100% free to attend and take part in\, you would not be discriminated against and you would be warmly welcomed. \nThe on-site serving of meals starts at 11 am and ends at 4 pm on Friday 19 June 2020. \nWe can’t wait to see you there.
URL:https://kiitanfoundation.org/event/community-soup-kitchen-monthly-event/
LOCATION:Ede North\, Osun state\, Osun\, 232101
CATEGORIES:covid-19,events
ATTACH;FMTTYPE=image/jpeg:https://kiitanfoundation.org/wp-content/uploads/2020/06/Social-for-Kiitan5.jpg
END:VEVENT
BEGIN:VEVENT
DTSTART;TZID=Africa/Lagos:20200619T110000
DTEND;TZID=Africa/Lagos:20200619T160000
DTSTAMP:20260421T011349
CREATED:20200616T172355Z
LAST-MODIFIED:20200702T155544Z
UID:1589-1592564400-1592582400@kiitanfoundation.org
SUMMARY:Community Soup Kitchen Monthly Event
DESCRIPTION:The maiden ‘Community Soup Kitchen’ which is a meal assistance program would be set up at the community school\, Ede North\, Osun state. This is a recurring event that would be timely spread nationwide starting from Osun State. \nThe aim of this event is to improve the quality of life of beneficiaries through the provision of nutritious hot meals for the homeless\, unemployed or disadvantaged – regardless of gender and age group. This event is 100% free to attend and take part of\, you would not be discriminated against and you would be warmly welcomed. \nOn-site serving of meals starts at 11 am and ends at 4 pm on Friday 19 June 2020. \nWe can’t wait to see you there.
URL:https://kiitanfoundation.org/event/community-soup-kitchen/
LOCATION:Ede North\, Osun state\, Osun\, 232101
CATEGORIES:covid-19,events,featured
ATTACH;FMTTYPE=image/jpeg:https://kiitanfoundation.org/wp-content/uploads/2020/06/Social-for-Kiitan5.jpg
END:VEVENT
BEGIN:VEVENT
DTSTART;TZID=Africa/Lagos:20200527T080000
DTEND;TZID=Africa/Lagos:20200527T170000
DTSTAMP:20260421T011349
CREATED:20200515T151941Z
LAST-MODIFIED:20200702T155544Z
UID:1483-1590566400-1590598800@kiitanfoundation.org
SUMMARY:Orphanage Visit Event - Children's Day Celebration
DESCRIPTION:The team at Kiitan Foundation would be celebrating the upcoming children’s day with the children of Little saints Orphanage Home\, Ibadan\, Oyo state. \n  \nWe are delighted to tell you that there would be exciting games\, costume-character appearances\, music\, celebration cake\, gifts\, snacks and drinks for the kids. \n  \nThe children of the orphanage home are meant to feel happiness and love at all times and this is our own contribution to that day. We are not allowing the partial lockdown in Nigeria to prevent us from allowing children to be children and experience the joy that we adults can bring to them. \n  \nWe are happily looking forward to this.
URL:https://kiitanfoundation.org/event/orphanage-visit-event-childrens-day-celebration/
LOCATION:Ibadan\, Oyo State.\, Oyo\, Nigeria
CATEGORIES:covid-19,events,featured
ATTACH;FMTTYPE=image/png:https://kiitanfoundation.org/wp-content/uploads/2020/05/Social-for-Kiitan.png
END:VEVENT
BEGIN:VEVENT
DTSTART;TZID=Africa/Lagos:20200416T080000
DTEND;TZID=Africa/Lagos:20200416T150000
DTSTAMP:20260421T011349
CREATED:20200414T202319Z
LAST-MODIFIED:20200702T155545Z
UID:1108-1587024000-1587049200@kiitanfoundation.org
SUMMARY:Community Outreach - Feeding
DESCRIPTION:We would be having a community outreach focusing on feeding the needy in Ede North and Ede South\, Osun State. We invite you to come and witness us do our work
URL:https://kiitanfoundation.org/event/community-outreach-feeding/
LOCATION:Ede\, Osun state.\, Oje Olobi Market\, Ede\, Osun state\, Nigeria
CATEGORIES:covid-19,events,featured
ATTACH;FMTTYPE=image/png:https://kiitanfoundation.org/wp-content/uploads/2019/12/kiitan-foundation-events.png
END:VEVENT
BEGIN:VEVENT
DTSTART;TZID=UTC:20200407T090000
DTEND;TZID=UTC:20200407T145900
DTSTAMP:20260421T011349
CREATED:20191222T174455Z
LAST-MODIFIED:20200702T155545Z
UID:109-1586250000-1586271540@kiitanfoundation.org
SUMMARY:COMMUNITY OUTREACH - PPE
DESCRIPTION:We would be visiting 5 locations for our Community Outreach cause in Oyo State\, Nigeria. We would be distributing personal protective equipment to individuals and educating them about keeping safe and the preventive measures against Covid-19 pandemic. \nAlso\, relief items such as uncooked food would be handed over to individuals affected by the disease and the compulsory restrictions placed on many areas. The outreach is slated to start for 9am and locations are as follows; \n\nIyana-church market\nLagelu Local Government Health Centre\nMonatan Local Government Health Centre\nYemetu\nAdegbayi\n\nWe look forward to volunteers joining us for the day.
URL:https://kiitanfoundation.org/event/community-outreach-personal-protective-equipment/
LOCATION:Ibadan\, Oyo State.\, Oyo\, Nigeria
CATEGORIES:covid-19,events,featured
ATTACH;FMTTYPE=image/png:https://kiitanfoundation.org/wp-content/uploads/2019/12/kiitan-foundation-events.png
END:VEVENT
END:VCALENDAR